Package: MsFeatures Version: 1.17.1 Command: /home/biocbuild/bbs-3.22-bioc/R/bin/R CMD check --install=check:MsFeatures.install-out.txt --library=/home/biocbuild/bbs-3.22-bioc/R/site-library --timings MsFeatures_1.17.1.tar.gz StartedAt: 2025-10-20 02:21:30 -0400 (Mon, 20 Oct 2025) EndedAt: 2025-10-20 02:24:16 -0400 (Mon, 20 Oct 2025) EllapsedTime: 166.1 seconds RetCode: 0 Status: OK CheckDir: MsFeatures.Rcheck Warnings: 0