Package: MsFeatures Version: 1.17.1 Command: /Library/Frameworks/R.framework/Resources/bin/R CMD INSTALL MsFeatures StartedAt: 2025-10-19 15:24:49 -0400 (Sun, 19 Oct 2025) EndedAt: 2025-10-19 15:25:18 -0400 (Sun, 19 Oct 2025) EllapsedTime: 29.0 seconds RetCode: 0 Status: OK