Package: MsFeatures Version: 1.17.1 Command: /Library/Frameworks/R.framework/Resources/bin/R CMD check --install=check:MsFeatures.install-out.txt --library=/Library/Frameworks/R.framework/Resources/library --no-vignettes --timings MsFeatures_1.17.1.tar.gz StartedAt: 2025-10-20 00:02:18 -0400 (Mon, 20 Oct 2025) EndedAt: 2025-10-20 00:05:17 -0400 (Mon, 20 Oct 2025) EllapsedTime: 179.2 seconds RetCode: 0 Status: OK CheckDir: MsFeatures.Rcheck Warnings: 0