Package: MsFeatures Version: 1.17.1 Command: rm -rf MsFeatures.buildbin-libdir && mkdir MsFeatures.buildbin-libdir && /Users/biocbuild/BBS/utils/build-universal.sh MsFeatures_1.17.1.tar.gz /Library/Frameworks/R.framework/Resources/bin/R MsFeatures.buildbin-libdir StartedAt: 2025-10-20 03:20:55 -0400 (Mon, 20 Oct 2025) EndedAt: 2025-10-20 03:21:28 -0400 (Mon, 20 Oct 2025) EllapsedTime: 32.5 seconds RetCode: 0 Status: OK PackageFile: MsFeatures_1.17.1.tgz PackageFileSize: 1.266 MiB