Package: MsFeatures Version: 1.17.1 Command: /Library/Frameworks/R.framework/Resources/bin/R CMD INSTALL MsFeatures StartedAt: 2025-10-20 15:14:10 -0400 (Mon, 20 Oct 2025) EndedAt: 2025-10-20 15:14:18 -0400 (Mon, 20 Oct 2025) EllapsedTime: 8.4 seconds RetCode: 0 Status: OK