Package: MsFeatures Version: 1.17.1 Command: /Library/Frameworks/R.framework/Resources/bin/R CMD build --keep-empty-dirs --no-resave-data MsFeatures StartedAt: 2025-10-19 17:06:01 -0400 (Sun, 19 Oct 2025) EndedAt: 2025-10-19 17:06:16 -0400 (Sun, 19 Oct 2025) EllapsedTime: 15.2 seconds RetCode: 0 Status: OK PackageFile: MsFeatures_1.17.1.tar.gz PackageFileSize: 1.219 MiB