Package: MsExperiment Version: 1.11.1 Command: /home/biocbuild/R/R/bin/R CMD INSTALL MsExperiment StartedAt: 2025-10-20 20:52:39 -0000 (Mon, 20 Oct 2025) EndedAt: 2025-10-20 20:53:16 -0000 (Mon, 20 Oct 2025) EllapsedTime: 37.5 seconds RetCode: 0 Status: OK