Package: MsExperiment Version: 1.11.1 Command: /home/biocbuild/R/R/bin/R CMD build --keep-empty-dirs --no-resave-data MsExperiment StartedAt: 2025-10-21 01:31:27 -0000 (Tue, 21 Oct 2025) EndedAt: 2025-10-21 01:32:55 -0000 (Tue, 21 Oct 2025) EllapsedTime: 88.0 seconds RetCode: 0 Status: OK PackageFile: MsExperiment_1.11.1.tar.gz PackageFileSize: 1.955 MiB