Package: MsExperiment Version: 1.11.1 Command: /home/biocbuild/bbs-3.22-bioc/R/bin/R CMD INSTALL MsExperiment StartedAt: 2025-10-20 15:34:41 -0400 (Mon, 20 Oct 2025) EndedAt: 2025-10-20 15:35:11 -0400 (Mon, 20 Oct 2025) EllapsedTime: 29.9 seconds RetCode: 0 Status: OK