Package: MsExperiment Version: 1.11.1 Command: /home/biocbuild/bbs-3.22-bioc/R/bin/R CMD check --install=check:MsExperiment.install-out.txt --library=/home/biocbuild/bbs-3.22-bioc/R/site-library --timings MsExperiment_1.11.1.tar.gz StartedAt: 2025-10-21 02:14:35 -0400 (Tue, 21 Oct 2025) EndedAt: 2025-10-21 02:18:56 -0400 (Tue, 21 Oct 2025) EllapsedTime: 261.2 seconds RetCode: 0 Status: OK CheckDir: MsExperiment.Rcheck Warnings: 0