Package: MsExperiment Version: 1.11.1 Command: /Library/Frameworks/R.framework/Resources/bin/R CMD INSTALL MsExperiment StartedAt: 2025-10-20 15:33:52 -0400 (Mon, 20 Oct 2025) EndedAt: 2025-10-20 15:34:34 -0400 (Mon, 20 Oct 2025) EllapsedTime: 42.0 seconds RetCode: 0 Status: OK