Package: MsExperiment Version: 1.11.1 Command: /Library/Frameworks/R.framework/Resources/bin/R CMD check --install=check:MsExperiment.install-out.txt --library=/Library/Frameworks/R.framework/Resources/library --no-vignettes --timings MsExperiment_1.11.1.tar.gz StartedAt: 2025-10-21 20:54:55 -0400 (Tue, 21 Oct 2025) EndedAt: 2025-10-21 20:56:28 -0400 (Tue, 21 Oct 2025) EllapsedTime: 93.1 seconds RetCode: 0 Status: OK CheckDir: MsExperiment.Rcheck Warnings: 0