Package: MsExperiment Version: 1.11.1 Command: rm -rf MsExperiment.buildbin-libdir && mkdir MsExperiment.buildbin-libdir && /Users/biocbuild/BBS/utils/build-universal.sh MsExperiment_1.11.1.tar.gz /Library/Frameworks/R.framework/Resources/bin/R MsExperiment.buildbin-libdir StartedAt: 2025-10-21 23:09:23 -0400 (Tue, 21 Oct 2025) EndedAt: 2025-10-21 23:09:38 -0400 (Tue, 21 Oct 2025) EllapsedTime: 14.4 seconds RetCode: 0 Status: OK PackageFile: MsExperiment_1.11.1.tgz PackageFileSize: 1.465 MiB