Package: MsDataHub Version: 1.9.0 Command: /home/biocbuild/R/R/bin/R CMD build --keep-empty-dirs --no-resave-data MsDataHub StartedAt: 2025-10-21 01:31:25 -0000 (Tue, 21 Oct 2025) EndedAt: 2025-10-21 01:32:15 -0000 (Tue, 21 Oct 2025) EllapsedTime: 50.0 seconds RetCode: 1 Status: ERROR PackageFile: None PackageFileSize: NA