Package: MsDataHub Version: 1.9.0 Command: F:\biocbuild\bbs-3.22-bioc\R\bin\R.exe CMD check --no-multiarch --install=check:MsDataHub.install-out.txt --library=F:\biocbuild\bbs-3.22-bioc\R\library --no-vignettes --timings MsDataHub_1.9.0.tar.gz StartedAt: 2025-08-15 05:31:26 -0400 (Fri, 15 Aug 2025) EndedAt: 2025-08-15 05:33:35 -0400 (Fri, 15 Aug 2025) EllapsedTime: 128.5 seconds RetCode: 0 Status: OK CheckDir: MsDataHub.Rcheck Warnings: 0