Package: MsDataHub Version: 1.9.0 Command: chmod a+r MsDataHub -R && F:\biocbuild\bbs-3.22-bioc\R\bin\R.exe CMD build --keep-empty-dirs --no-resave-data MsDataHub StartedAt: 2025-08-14 21:42:12 -0400 (Thu, 14 Aug 2025) EndedAt: 2025-08-14 21:51:54 -0400 (Thu, 14 Aug 2025) EllapsedTime: 581.9 seconds RetCode: 0 Status: OK PackageFile: MsDataHub_1.9.0.tar.gz PackageFileSize: 372.7 KiB