Package: MsDataHub Version: 1.9.0 Command: rm -rf MsDataHub.buildbin-libdir && mkdir MsDataHub.buildbin-libdir && F:\biocbuild\bbs-3.22-bioc\R\bin\R.exe CMD INSTALL --build --library=MsDataHub.buildbin-libdir MsDataHub_1.9.0.tar.gz StartedAt: 2025-08-15 10:46:08 -0400 (Fri, 15 Aug 2025) EndedAt: 2025-08-15 10:46:27 -0400 (Fri, 15 Aug 2025) EllapsedTime: 19.1 seconds RetCode: 0 Status: OK PackageFile: MsDataHub_1.9.0.zip PackageFileSize: 398.3 KiB