Package: MsDataHub Version: 1.9.0 Command: /home/biocbuild/bbs-3.22-bioc/R/bin/R CMD INSTALL MsDataHub StartedAt: 2025-10-20 15:25:02 -0400 (Mon, 20 Oct 2025) EndedAt: 2025-10-20 15:25:17 -0400 (Mon, 20 Oct 2025) EllapsedTime: 14.4 seconds RetCode: 0 Status: OK