Package: MsDataHub Version: 1.9.0 Command: /home/biocbuild/bbs-3.22-bioc/R/bin/R CMD check --install=check:MsDataHub.install-out.txt --library=/home/biocbuild/bbs-3.22-bioc/R/site-library --timings MsDataHub_1.9.0.tar.gz StartedAt: 2025-10-21 02:14:23 -0400 (Tue, 21 Oct 2025) EndedAt: 2025-10-21 02:19:31 -0400 (Tue, 21 Oct 2025) EllapsedTime: 308.2 seconds RetCode: 0 Status: OK CheckDir: MsDataHub.Rcheck Warnings: 0