Package: MsDataHub Version: 1.9.0 Command: /Library/Frameworks/R.framework/Resources/bin/R CMD INSTALL MsDataHub StartedAt: 2025-10-20 15:23:27 -0400 (Mon, 20 Oct 2025) EndedAt: 2025-10-20 15:23:47 -0400 (Mon, 20 Oct 2025) EllapsedTime: 19.8 seconds RetCode: 0 Status: OK