Package: MsDataHub Version: 1.9.0 Command: rm -rf MsDataHub.buildbin-libdir && mkdir MsDataHub.buildbin-libdir && /Users/biocbuild/BBS/utils/build-universal.sh MsDataHub_1.9.0.tar.gz /Library/Frameworks/R.framework/Resources/bin/R MsDataHub.buildbin-libdir StartedAt: 2025-10-21 03:23:32 -0400 (Tue, 21 Oct 2025) EndedAt: 2025-10-21 03:23:55 -0400 (Tue, 21 Oct 2025) EllapsedTime: 23.2 seconds RetCode: 0 Status: OK PackageFile: MsDataHub_1.9.0.tgz PackageFileSize: 390.6 KiB