Package: MsDataHub Version: 1.9.0 Command: /Library/Frameworks/R.framework/Resources/bin/R CMD check --install=check:MsDataHub.install-out.txt --library=/Library/Frameworks/R.framework/Resources/library --no-vignettes --timings MsDataHub_1.9.0.tar.gz StartedAt: 2025-10-20 20:53:49 -0400 (Mon, 20 Oct 2025) EndedAt: 2025-10-20 20:54:31 -0400 (Mon, 20 Oct 2025) EllapsedTime: 42.6 seconds RetCode: 0 Status: OK CheckDir: MsDataHub.Rcheck Warnings: 0