Package: MsDataHub Version: 1.9.0 Command: /Library/Frameworks/R.framework/Resources/bin/R CMD build --keep-empty-dirs --no-resave-data MsDataHub StartedAt: 2025-10-20 17:06:30 -0400 (Mon, 20 Oct 2025) EndedAt: 2025-10-20 17:08:17 -0400 (Mon, 20 Oct 2025) EllapsedTime: 107.2 seconds RetCode: 0 Status: OK PackageFile: MsDataHub_1.9.0.tar.gz PackageFileSize: 372.3 KiB