Package: MsBackendMetaboLights Version: 1.3.1 Command: /home/biocbuild/R/R/bin/R CMD build --keep-empty-dirs --no-resave-data MsBackendMetaboLights StartedAt: 2025-10-21 01:30:23 -0000 (Tue, 21 Oct 2025) EndedAt: 2025-10-21 01:31:44 -0000 (Tue, 21 Oct 2025) EllapsedTime: 81.0 seconds RetCode: 0 Status: OK PackageFile: MsBackendMetaboLights_1.3.1.tar.gz PackageFileSize: 377 KiB