Package: MsBackendMetaboLights Version: 1.3.1 Command: F:\biocbuild\bbs-3.22-bioc\R\bin\R.exe CMD check --no-multiarch --install=check:MsBackendMetaboLights.install-out.txt --library=F:\biocbuild\bbs-3.22-bioc\R\library --no-vignettes --timings MsBackendMetaboLights_1.3.1.tar.gz StartedAt: 2025-08-15 05:29:23 -0400 (Fri, 15 Aug 2025) EndedAt: 2025-08-15 05:42:23 -0400 (Fri, 15 Aug 2025) EllapsedTime: 780.4 seconds RetCode: 0 Status: OK CheckDir: MsBackendMetaboLights.Rcheck Warnings: 0