Package: MsBackendMetaboLights Version: 1.3.1 Command: /home/biocbuild/bbs-3.22-bioc/R/bin/R CMD INSTALL MsBackendMetaboLights StartedAt: 2025-10-19 15:15:29 -0400 (Sun, 19 Oct 2025) EndedAt: 2025-10-19 15:15:41 -0400 (Sun, 19 Oct 2025) EllapsedTime: 12.3 seconds RetCode: 0 Status: OK