Package: MsBackendMetaboLights Version: 1.3.1 Command: /home/biocbuild/bbs-3.22-bioc/R/bin/R CMD check --install=check:MsBackendMetaboLights.install-out.txt --library=/home/biocbuild/bbs-3.22-bioc/R/site-library --timings MsBackendMetaboLights_1.3.1.tar.gz StartedAt: 2025-10-20 02:19:58 -0400 (Mon, 20 Oct 2025) EndedAt: 2025-10-20 02:30:01 -0400 (Mon, 20 Oct 2025) EllapsedTime: 603.5 seconds RetCode: 0 Status: OK CheckDir: MsBackendMetaboLights.Rcheck Warnings: 0