Package: MsBackendMassbank Version: 1.17.1 Command: F:\biocbuild\bbs-3.22-bioc\R\bin\R.exe CMD check --no-multiarch --install=check:MsBackendMassbank.install-out.txt --library=F:\biocbuild\bbs-3.22-bioc\R\library --no-vignettes --timings MsBackendMassbank_1.17.1.tar.gz StartedAt: 2025-08-15 05:29:21 -0400 (Fri, 15 Aug 2025) EndedAt: 2025-08-15 05:32:42 -0400 (Fri, 15 Aug 2025) EllapsedTime: 201.1 seconds RetCode: 0 Status: OK CheckDir: MsBackendMassbank.Rcheck Warnings: 0