Package: MouseFM Version: 1.19.1 Command: F:\biocbuild\bbs-3.22-bioc\R\bin\R.exe CMD check --no-multiarch --install=check:MouseFM.install-out.txt --library=F:\biocbuild\bbs-3.22-bioc\R\library --no-vignettes --timings MouseFM_1.19.1.tar.gz StartedAt: 2025-08-15 05:26:11 -0400 (Fri, 15 Aug 2025) EndedAt: 2025-08-15 05:31:24 -0400 (Fri, 15 Aug 2025) EllapsedTime: 312.3 seconds RetCode: 0 Status: OK CheckDir: MouseFM.Rcheck Warnings: 0