Package: MouseFM Version: 1.19.1 Command: chmod a+r MouseFM -R && F:\biocbuild\bbs-3.22-bioc\R\bin\R.exe CMD build --keep-empty-dirs --no-resave-data MouseFM StartedAt: 2025-08-14 21:40:09 -0400 (Thu, 14 Aug 2025) EndedAt: 2025-08-14 21:41:19 -0400 (Thu, 14 Aug 2025) EllapsedTime: 70.0 seconds RetCode: 0 Status: OK PackageFile: MouseFM_1.19.1.tar.gz PackageFileSize: 690.1 KiB