Package: MotifDb Version: 1.51.0 Command: /home/biocbuild/R/R/bin/R CMD check --install=check:MotifDb.install-out.txt --library=/home/biocbuild/R/R/site-library --no-vignettes --timings MotifDb_1.51.0.tar.gz StartedAt: 2025-10-17 11:16:20 -0000 (Fri, 17 Oct 2025) EndedAt: 2025-10-17 11:23:45 -0000 (Fri, 17 Oct 2025) EllapsedTime: 444.4 seconds RetCode: 0 Status: WARNINGS CheckDir: MotifDb.Rcheck Warnings: 2