Package: MotifDb Version: 1.51.0 Command: /home/biocbuild/R/R/bin/R CMD build --keep-empty-dirs --no-resave-data MotifDb StartedAt: 2025-10-21 01:26:31 -0000 (Tue, 21 Oct 2025) EndedAt: 2025-10-21 01:27:53 -0000 (Tue, 21 Oct 2025) EllapsedTime: 82.0 seconds RetCode: 0 Status: OK PackageFile: MotifDb_1.51.0.tar.gz PackageFileSize: 4.167 MiB