Package: MotifDb Version: 1.51.0 Command: F:\biocbuild\bbs-3.22-bioc\R\bin\R.exe CMD INSTALL MotifDb StartedAt: 2025-08-14 16:21:45 -0400 (Thu, 14 Aug 2025) EndedAt: 2025-08-14 16:23:06 -0400 (Thu, 14 Aug 2025) EllapsedTime: 80.8 seconds RetCode: 0 Status: OK