Package: MotifDb Version: 1.51.0 Command: chmod a+r MotifDb -R && F:\biocbuild\bbs-3.22-bioc\R\bin\R.exe CMD build --keep-empty-dirs --no-resave-data MotifDb StartedAt: 2025-08-14 21:39:28 -0400 (Thu, 14 Aug 2025) EndedAt: 2025-08-14 21:40:47 -0400 (Thu, 14 Aug 2025) EllapsedTime: 78.7 seconds RetCode: 0 Status: OK PackageFile: MotifDb_1.51.0.tar.gz PackageFileSize: 4.165 MiB