Package: MotifDb Version: 1.51.0 Command: /home/biocbuild/bbs-3.22-bioc/R/bin/R CMD INSTALL MotifDb StartedAt: 2025-10-22 15:27:37 -0400 (Wed, 22 Oct 2025) EndedAt: 2025-10-22 15:28:20 -0400 (Wed, 22 Oct 2025) EllapsedTime: 43.8 seconds RetCode: 0 Status: OK