Package: MotifDb Version: 1.51.0 Command: /home/biocbuild/bbs-3.22-bioc/R/bin/R CMD build --keep-empty-dirs --no-resave-data --md5 MotifDb StartedAt: 2025-10-22 18:50:44 -0400 (Wed, 22 Oct 2025) EndedAt: 2025-10-22 18:51:44 -0400 (Wed, 22 Oct 2025) EllapsedTime: 60.1 seconds RetCode: 0 Status: OK PackageFile: MotifDb_1.51.0.tar.gz PackageFileSize: 4.18 MiB