Package: MotifDb Version: 1.51.0 Command: /Library/Frameworks/R.framework/Resources/bin/R CMD check --install=check:MotifDb.install-out.txt --library=/Library/Frameworks/R.framework/Resources/library --no-vignettes --timings MotifDb_1.51.0.tar.gz StartedAt: 2025-10-22 22:31:28 -0400 (Wed, 22 Oct 2025) EndedAt: 2025-10-22 22:37:37 -0400 (Wed, 22 Oct 2025) EllapsedTime: 369.3 seconds RetCode: 0 Status: WARNINGS CheckDir: MotifDb.Rcheck Warnings: 2