Package: MotifDb Version: 1.51.0 Command: /Library/Frameworks/R.framework/Resources/bin/R CMD INSTALL MotifDb StartedAt: 2025-10-22 15:17:02 -0400 (Wed, 22 Oct 2025) EndedAt: 2025-10-22 15:17:19 -0400 (Wed, 22 Oct 2025) EllapsedTime: 16.9 seconds RetCode: 0 Status: OK