Package: MotifDb Version: 1.51.0 Command: /Library/Frameworks/R.framework/Resources/bin/R CMD check --install=check:MotifDb.install-out.txt --library=/Library/Frameworks/R.framework/Resources/library --no-vignettes --timings MotifDb_1.51.0.tar.gz StartedAt: 2025-10-22 20:50:39 -0400 (Wed, 22 Oct 2025) EndedAt: 2025-10-22 20:52:51 -0400 (Wed, 22 Oct 2025) EllapsedTime: 132.4 seconds RetCode: 0 Status: WARNINGS CheckDir: MotifDb.Rcheck Warnings: 2