Package: Motif2Site Version: 1.14.0 Command: /home/biocbuild/bbs-3.22-bioc/R/bin/R CMD build --keep-empty-dirs --no-resave-data --md5 Motif2Site StartedAt: 2025-10-31 18:58:57 -0400 (Fri, 31 Oct 2025) EndedAt: 2025-10-31 19:02:23 -0400 (Fri, 31 Oct 2025) EllapsedTime: 206.1 seconds RetCode: 0 Status: OK PackageFile: Motif2Site_1.14.0.tar.gz PackageFileSize: 1.42 MiB