Package: ModCon Version: 1.17.0 Command: /Library/Frameworks/R.framework/Resources/bin/R CMD INSTALL ModCon StartedAt: 2025-10-27 15:02:48 -0400 (Mon, 27 Oct 2025) EndedAt: 2025-10-27 15:03:17 -0400 (Mon, 27 Oct 2025) EllapsedTime: 29.2 seconds RetCode: 0 Status: OK