Package: ModCon Version: 1.17.0 Command: /Library/Frameworks/R.framework/Resources/bin/R CMD build --keep-empty-dirs --no-resave-data ModCon StartedAt: 2025-10-27 17:43:45 -0400 (Mon, 27 Oct 2025) EndedAt: 2025-10-27 17:45:54 -0400 (Mon, 27 Oct 2025) EllapsedTime: 128.8 seconds RetCode: 0 Status: OK PackageFile: ModCon_1.17.0.tar.gz PackageFileSize: 1.912 MiB