Package: MicrobiotaProcess Version: 1.21.2 Command: /home/biocbuild/R/R/bin/R CMD INSTALL MicrobiotaProcess StartedAt: 2025-10-23 20:37:41 -0000 (Thu, 23 Oct 2025) EndedAt: 2025-10-23 20:39:08 -0000 (Thu, 23 Oct 2025) EllapsedTime: 87.4 seconds RetCode: 0 Status: OK