Package: MicrobiotaProcess Version: 1.21.2 Command: /home/biocbuild/bbs-3.22-bioc/R/bin/R CMD build --keep-empty-dirs --no-resave-data --md5 MicrobiotaProcess StartedAt: 2025-10-19 18:40:49 -0400 (Sun, 19 Oct 2025) EndedAt: 2025-10-19 18:43:29 -0400 (Sun, 19 Oct 2025) EllapsedTime: 160.2 seconds RetCode: 0 Status: OK PackageFile: MicrobiotaProcess_1.21.2.tar.gz PackageFileSize: 4.841 MiB