Package: MicrobiotaProcess Version: 1.21.2 Command: /Library/Frameworks/R.framework/Resources/bin/R CMD INSTALL MicrobiotaProcess StartedAt: 2025-10-24 15:14:24 -0400 (Fri, 24 Oct 2025) EndedAt: 2025-10-24 15:14:47 -0400 (Fri, 24 Oct 2025) EllapsedTime: 23.2 seconds RetCode: 0 Status: OK