Package: MicrobiomeProfiler Version: 1.15.0 Command: /home/biocbuild/R/R/bin/R CMD build --keep-empty-dirs --no-resave-data MicrobiomeProfiler StartedAt: 2025-10-17 02:40:58 -0000 (Fri, 17 Oct 2025) EndedAt: 2025-10-17 02:41:32 -0000 (Fri, 17 Oct 2025) EllapsedTime: 34.0 seconds RetCode: 0 Status: OK PackageFile: MicrobiomeProfiler_1.15.0.tar.gz PackageFileSize: 1.052 MiB