Package: MicrobiomeProfiler Version: 1.15.0 Command: /home/biocbuild/bbs-3.22-bioc/R/bin/R CMD check --install=check:MicrobiomeProfiler.install-out.txt --library=/home/biocbuild/bbs-3.22-bioc/R/site-library --timings MicrobiomeProfiler_1.15.0.tar.gz StartedAt: 2025-10-20 01:56:28 -0400 (Mon, 20 Oct 2025) EndedAt: 2025-10-20 01:59:09 -0400 (Mon, 20 Oct 2025) EllapsedTime: 161.1 seconds RetCode: 0 Status: OK CheckDir: MicrobiomeProfiler.Rcheck Warnings: 0