Package: MicrobiomeProfiler Version: 1.15.0 Command: /Library/Frameworks/R.framework/Resources/bin/R CMD INSTALL MicrobiomeProfiler StartedAt: 2025-10-19 15:43:29 -0400 (Sun, 19 Oct 2025) EndedAt: 2025-10-19 15:44:04 -0400 (Sun, 19 Oct 2025) EllapsedTime: 34.9 seconds RetCode: 0 Status: OK