Package: MicrobiomeProfiler Version: 1.15.0 Command: /Library/Frameworks/R.framework/Resources/bin/R CMD check --install=check:MicrobiomeProfiler.install-out.txt --library=/Library/Frameworks/R.framework/Resources/library --no-vignettes --timings MicrobiomeProfiler_1.15.0.tar.gz StartedAt: 2025-10-19 23:46:39 -0400 (Sun, 19 Oct 2025) EndedAt: 2025-10-19 23:50:00 -0400 (Sun, 19 Oct 2025) EllapsedTime: 200.8 seconds RetCode: 0 Status: OK CheckDir: MicrobiomeProfiler.Rcheck Warnings: 0