Package: MicrobiomeProfiler Version: 1.15.0 Command: rm -rf MicrobiomeProfiler.buildbin-libdir && mkdir MicrobiomeProfiler.buildbin-libdir && /Users/biocbuild/BBS/utils/build-universal.sh MicrobiomeProfiler_1.15.0.tar.gz /Library/Frameworks/R.framework/Resources/bin/R MicrobiomeProfiler.buildbin-libdir StartedAt: 2025-10-20 03:18:50 -0400 (Mon, 20 Oct 2025) EndedAt: 2025-10-20 03:19:27 -0400 (Mon, 20 Oct 2025) EllapsedTime: 37.0 seconds RetCode: 0 Status: OK PackageFile: MicrobiomeProfiler_1.15.0.tgz PackageFileSize: 948.2 KiB